Workbook

Sheet Architecture
A1: HALDEN — SS26 Range Architecture & Option Plan
A2: Spring/Summer 2026 · 54 options · 6 categories × 4 tiers · matrix derived by COUNTIFS from 'SKU list'
A4: Category | B4: Entry | C4: Core | D4: Premium | E4: Icon | F4: Σ Options | G4: Mix % | H4: Carryover % | I4: Newness %
A5: Outerwear | B5: =COUNTIFS('SKU list'!$C$3:$C$56, $A5, 'SKU list'!$D$3:$D$56, B$4) | C5: =COUNTIFS('SKU list'!$C$3:$C$56, $A5, 'SKU list'!$D$3:$D$56, C$4) | D5: =COUNTIFS('SKU list'!$C$3:$C$56, $A5, 'SKU list'!$D$3:$D$56, D$4) | E5: =COUNTIFS('SKU list'!$C$3:$C$56, $A5, 'SKU list'!$D$3:$D$56, E$4) | F5: =SUM(B5:E5) | G5: =F5/$F$11 | H5: =COUNTIFS('SKU list'!$C$3:$C$56,$A5,'SKU list'!$F$3:$F$56,"Y")/F5 | I5: =1-H5
A6: Knitwear | B6: =COUNTIFS('SKU list'!$C$3:$C$56, $A6, 'SKU list'!$D$3:$D$56, B$4) | C6: =COUNTIFS('SKU list'!$C$3:$C$56, $A6, 'SKU list'!$D$3:$D$56, C$4) | D6: =COUNTIFS('SKU list'!$C$3:$C$56, $A6, 'SKU list'!$D$3:$D$56, D$4) | E6: =COUNTIFS('SKU list'!$C$3:$C$56, $A6, 'SKU list'!$D$3:$D$56, E$4) | F6: =SUM(B6:E6) | G6: =F6/$F$11 | H6: =COUNTIFS('SKU list'!$C$3:$C$56,$A6,'SKU list'!$F$3:$F$56,"Y")/F6 | I6: =1-H6
A7: Dresses | B7: =COUNTIFS('SKU list'!$C$3:$C$56, $A7, 'SKU list'!$D$3:$D$56, B$4) | C7: =COUNTIFS('SKU list'!$C$3:$C$56, $A7, 'SKU list'!$D$3:$D$56, C$4) | D7: =COUNTIFS('SKU list'!$C$3:$C$56, $A7, 'SKU list'!$D$3:$D$56, D$4) | E7: =COUNTIFS('SKU list'!$C$3:$C$56, $A7, 'SKU list'!$D$3:$D$56, E$4) | F7: =SUM(B7:E7) | G7: =F7/$F$11 | H7: =COUNTIFS('SKU list'!$C$3:$C$56,$A7,'SKU list'!$F$3:$F$56,"Y")/F7 | I7: =1-H7
A8: Tops | B8: =COUNTIFS('SKU list'!$C$3:$C$56, $A8, 'SKU list'!$D$3:$D$56, B$4) | C8: =COUNTIFS('SKU list'!$C$3:$C$56, $A8, 'SKU list'!$D$3:$D$56, C$4) | D8: =COUNTIFS('SKU list'!$C$3:$C$56, $A8, 'SKU list'!$D$3:$D$56, D$4) | E8: =COUNTIFS('SKU list'!$C$3:$C$56, $A8, 'SKU list'!$D$3:$D$56, E$4) | F8: =SUM(B8:E8) | G8: =F8/$F$11 | H8: =COUNTIFS('SKU list'!$C$3:$C$56,$A8,'SKU list'!$F$3:$F$56,"Y")/F8 | I8: =1-H8
A9: Trousers | B9: =COUNTIFS('SKU list'!$C$3:$C$56, $A9, 'SKU list'!$D$3:$D$56, B$4) | C9: =COUNTIFS('SKU list'!$C$3:$C$56, $A9, 'SKU list'!$D$3:$D$56, C$4) | D9: =COUNTIFS('SKU list'!$C$3:$C$56, $A9, 'SKU list'!$D$3:$D$56, D$4) | E9: =COUNTIFS('SKU list'!$C$3:$C$56, $A9, 'SKU list'!$D$3:$D$56, E$4) | F9: =SUM(B9:E9) | G9: =F9/$F$11 | H9: =COUNTIFS('SKU list'!$C$3:$C$56,$A9,'SKU list'!$F$3:$F$56,"Y")/F9 | I9: =1-H9
A10: Denim | B10: =COUNTIFS('SKU list'!$C$3:$C$56, $A10, 'SKU list'!$D$3:$D$56, B$4) | C10: =COUNTIFS('SKU list'!$C$3:$C$56, $A10, 'SKU list'!$D$3:$D$56, C$4) | D10: =COUNTIFS('SKU list'!$C$3:$C$56, $A10, 'SKU list'!$D$3:$D$56, D$4) | E10: =COUNTIFS('SKU list'!$C$3:$C$56, $A10, 'SKU list'!$D$3:$D$56, E$4) | F10: =SUM(B10:E10) | G10: =F10/$F$11 | H10: =COUNTIFS('SKU list'!$C$3:$C$56,$A10,'SKU list'!$F$3:$F$56,"Y")/F10 | I10: =1-H10
A11: Σ by tier | B11: =SUM(B5:B10) | C11: =SUM(C5:C10) | D11: =SUM(D5:D10) | E11: =SUM(E5:E10) | F11: =SUM(F5:F10) | G11: =F11/$F$11
A13: Price band low (€) | B13: 90 | C13: 180 | D13: 340 | E13: 620
A14: Price band high (€) | B14: 180 | C14: 340 | D14: 620 | E14: 1200
A16: Weighted carryover | D16: =SUMPRODUCT($G$5:$G$10,$H$5:$H$10)
A17: Weighted newness | D17: =SUMPRODUCT($G$5:$G$10,$I$5:$I$10)
A18: Icon share | D18: =E11/$F$11
A19: Guardrail — icon ceiling (≤10%) | D19: =IF(E11/$F$11>0.1,"BREACH: icon ceiling","OK")
A20: Guardrail — newness floor (≥60%) | D20: =IF($D$17<0.6,"BREACH: newness floor","OK")

Sheet SKU list
A1: HALDEN SS26 — Style Master (54 options)
A2: Style no | B2: Name | C2: Category | D2: Tier | E2: Price (€) | F2: Carryover (Y/N)
A3: HAL-SS26-001 | B3: Fjord | C3: Outerwear | D3: Entry | E3: 110 | F3: Y
A4: HAL-SS26-002 | B4: Nord | C4: Outerwear | D4: Entry | E4: 130 | F4: Y
A5: HAL-SS26-003 | B5: Anorak | C5: Outerwear | D5: Core | E5: 200 | F5: Y
A6: HAL-SS26-004 | B6: Storm | C6: Outerwear | D6: Core | E6: 235 | F6: Y
A7: HAL-SS26-005 | B7: Harbor | C7: Outerwear | D7: Core | E7: 270 | F7: N
A8: HAL-SS26-006 | B8: Glacier | C8: Outerwear | D8: Premium | E8: 380 | F8: N
A9: HAL-SS26-007 | B9: Trench | C9: Outerwear | D9: Premium | E9: 440 | F9: N
A10: HAL-SS26-008 | B10: Parka | C10: Outerwear | D10: Premium | E10: 510 | F10: N
A11: HAL-SS26-009 | B11: Shell | C11: Outerwear | D11: Icon | E11: 690 | F11: N
A12: HAL-SS26-010 | B12: Cove | C12: Outerwear | D12: Icon | E12: 820 | F12: N
A13: HAL-SS26-011 | B13: Loft | C13: Knitwear | D13: Entry | E13: 110 | F13: Y
A14: HAL-SS26-012 | B14: Cable | C14: Knitwear | D14: Entry | E14: 130 | F14: Y
... A56: HAL-SS26-054 | B56: Bleach | C56: Denim | D56: Icon | E56: 690 | F56: N

Sheet Price ladder
A1: HALDEN SS26 — Price Ladder vs Tier Bands
A2: Style no | B2: Name | C2: Category | D2: Tier | E2: Price (€) | F2: Band low (€) | G2: Band high (€) | H2: Flag
A3: ='SKU list'!A3 | B3: ='SKU list'!B3 | C3: ='SKU list'!C3 | D3: ='SKU list'!D3 | E3: ='SKU list'!E3 | F3: =INDEX(Architecture!$B$13:$E$13,MATCH(D3,Architecture!$B$4:$E$4,0)) | G3: =INDEX(Architecture!$B$14:$E$14,MATCH(D3,Architecture!$B$4:$E$4,0)) | H3: =IF(OR(E3<F3,E3>G3),"OUTLIER","")
A4: ='SKU list'!A4 | B4: ='SKU list'!B4 | C4: ='SKU list'!C4 | D4: ='SKU list'!D4 | E4: ='SKU list'!E4 | F4: =INDEX(Architecture!$B$13:$E$13,MATCH(D4,Architecture!$B$4:$E$4,0)) | G4: =INDEX(Architecture!$B$14:$E$14,MATCH(D4,Architecture!$B$4:$E$4,0)) | H4: =IF(OR(E4<F4,E4>G4),"OUTLIER","")
A5: ='SKU list'!A5 | B5: ='SKU list'!B5 | C5: ='SKU list'!C5 | D5: ='SKU list'!D5 | E5: ='SKU list'!E5 | F5: =INDEX(Architecture!$B$13:$E$13,MATCH(D5,Architecture!$B$4:$E$4,0)) | G5: =INDEX(Architecture!$B$14:$E$14,MATCH(D5,Architecture!$B$4:$E$4,0)) | H5: =IF(OR(E5<F5,E5>G5),"OUTLIER","")
A6: ='SKU list'!A6 | B6: ='SKU list'!B6 | C6: ='SKU list'!C6 | D6: ='SKU list'!D6 | E6: ='SKU list'!E6 | F6: =INDEX(Architecture!$B$13:$E$13,MATCH(D6,Architecture!$B$4:$E$4,0)) | G6: =INDEX(Architecture!$B$14:$E$14,MATCH(D6,Architecture!$B$4:$E$4,0)) | H6: =IF(OR(E6<F6,E6>G6),"OUTLIER","")
A7: ='SKU list'!A7 | B7: ='SKU list'!B7 | C7: ='SKU list'!C7 | D7: ='SKU list'!D7 | E7: ='SKU list'!E7 | F7: =INDEX(Architecture!$B$13:$E$13,MATCH(D7,Architecture!$B$4:$E$4,0)) | G7: =INDEX(Architecture!$B$14:$E$14,MATCH(D7,Architecture!$B$4:$E$4,0)) | H7: =IF(OR(E7<F7,E7>G7),"OUTLIER","")
A8: ='SKU list'!A8 | B8: ='SKU list'!B8 | C8: ='SKU list'!C8 | D8: ='SKU list'!D8 | E8: ='SKU list'!E8 | F8: =INDEX(Architecture!$B$13:$E$13,MATCH(D8,Architecture!$B$4:$E$4,0)) | G8: =INDEX(Architecture!$B$14:$E$14,MATCH(D8,Architecture!$B$4:$E$4,0)) | H8: =IF(OR(E8<F8,E8>G8),"OUTLIER","")
A9: ='SKU list'!A9 | B9: ='SKU list'!B9 | C9: ='SKU list'!C9 | D9: ='SKU list'!D9 | E9: ='SKU list'!E9 | F9: =INDEX(Architecture!$B$13:$E$13,MATCH(D9,Architecture!$B$4:$E$4,0)) | G9: =INDEX(Architecture!$B$14:$E$14,MATCH(D9,Architecture!$B$4:$E$4,0)) | H9: =IF(OR(E9<F9,E9>G9),"OUTLIER","")
A10: ='SKU list'!A10 | B10: ='SKU list'!B10 | C10: ='SKU list'!C10 | D10: ='SKU list'!D10 | E10: ='SKU list'!E10 | F10: =INDEX(Architecture!$B$13:$E$13,MATCH(D10,Architecture!$B$4:$E$4,0)) | G10: =INDEX(Architecture!$B$14:$E$14,MATCH(D10,Architecture!$B$4:$E$4,0)) | H10: =IF(OR(E10<F10,E10>G10),"OUTLIER","")
A11: ='SKU list'!A11 | B11: ='SKU list'!B11 | C11: ='SKU list'!C11 | D11: ='SKU list'!D11 | E11: ='SKU list'!E11 | F11: =INDEX(Architecture!$B$13:$E$13,MATCH(D11,Architecture!$B$4:$E$4,0)) | G11: =INDEX(Architecture!$B$14:$E$14,MATCH(D11,Architecture!$B$4:$E$4,0)) | H11: =IF(OR(E11<F11,E11>G11),"OUTLIER","")
A12: ='SKU list'!A12 | B12: ='SKU list'!B12 | C12: ='SKU list'!C12 | D12: ='SKU list'!D12 | E12: ='SKU list'!E12 | F12: =INDEX(Architecture!$B$13:$E$13,MATCH(D12,Architecture!$B$4:$E$4,0)) | G12: =INDEX(Architecture!$B$14:$E$14,MATCH(D12,Architecture!$B$4:$E$4,0)) | H12: =IF(OR(E12<F12,E12>G12),"OUTLIER","")
A13: ='SKU list'!A13 | B13: ='SKU list'!B13 | C13: ='SKU list'!C13 | D13: ='SKU list'!D13 | E13: ='SKU list'!E13 | F13: =INDEX(Architecture!$B$13:$E$13,MATCH(D13,Architecture!$B$4:$E$4,0)) | G13: =INDEX(Architecture!$B$14:$E$14,MATCH(D13,Architecture!$B$4:$E$4,0)) | H13: =IF(OR(E13<F13,E13>G13),"OUTLIER","")
A14: ='SKU list'!A14 | B14: ='SKU list'!B14 | C14: ='SKU list'!C14 | D14: ='SKU list'!D14 | E14: ='SKU list'!E14 | F14: =INDEX(Architecture!$B$13:$E$13,MATCH(D14,Architecture!$B$4:$E$4,0)) | G14: =INDEX(Architecture!$B$14:$E$14,MATCH(D14,Architecture!$B$4:$E$4,0)) | H14: =IF(OR(E14<F14,E14>G14),"OUTLIER","")
... A56: ='SKU list'!A56 | B56: ='SKU list'!B56 | C56: ='SKU list'!C56 | D56: ='SKU list'!D56 | E56: ='SKU list'!E56 | F56: =INDEX(Architecture!$B$13:$E$13,MATCH(D56,Architecture!$B$4:$E$4,0)) | G56: =INDEX(Architecture!$B$14:$E$14,MATCH(D56,Architecture!$B$4:$E$4,0)) | H56: =IF(OR(E56<F56,E56>G56),"OUTLIER","")
