Workbook

Sheet Tracker
A1: Marlowe Atelier · Sample Tracking Log — SS26
A2: ="Season ref: SS26 / Spring-Summer · Critical path vs Calendar targets · As of "&TEXT(TODAY(),"dd mmm yyyy") -> Season ref: SS26 / Spring-Summer · Critical path vs Calendar targets · As of 15 Jul 2026
A3: Style # | B3: Style Name | C3: Category | D3: Proto 1 | F3: Proto 2/SMS | H3: Fit Sample | J3: PP Sample | L3: Gold Seal | N3: Current Stage | O3: Days in Stage | P3: On Track?
D4: Status | E4: Date | F4: Status | G4: Date | H4: Status | I4: Date | J4: Status | K4: Date | L4: Status | M4: Date
A5: SS-101 | B5: Marlowe Slip Dress | C5: Dresses | D5: Approved | E5: 46132 | F5: Approved | G5: 46150 | H5: Approved | I5: 46168 | J5: Approved | K5: 46185 | L5: Approved | M5: 46205 | N5: =IF(L5="Approved","Gold Seal",IF(J5="Approved","PP Sample",IF(H5="Approved","Fit Sample",IF(F5="Approved","Proto 2/SMS",IF(D5="Approved","Proto 1","Not Started"))))) -> Gold Seal | O5: =IFERROR(IF(MAX(E5,G5,I5,K5,M5)=0,"",TODAY()-MAX(E5,G5,I5,K5,M5)),"") -> 13 | P5: =IFERROR(IF((IF(D5<>"Approved","Proto 1",IF(F5<>"Approved","Proto 2/SMS",IF(H5<>"Approved","Fit Sample",IF(J5<>"Approved","PP Sample",IF(L5<>"Approved","Gold Seal",""))))))="","complete",IF(VLOOKUP((IF(D5<>"Approved","Proto 1",IF(F5<>"Approved","Proto 2/SMS",IF(H5<>"Approved","Fit Sample",IF(J5<>"Approved","PP Sample",IF(L5<>"Approved","Gold Seal","")))))),Calendar!$A$5:$E$9,2,FALSE())<TODAY(),"DUE/LATE","on track")),"on track") -> complete
A6: SS-102 | B6: Colette Blouse | C6: Tops | D6: Approved | E6: 46134 | F6: Approved | G6: 46153 | H6: Approved | I6: 46170 | J6: Approved | K6: 46188 | L6: Approved | M6: 46209 | N6: =IF(L6="Approved","Gold Seal",IF(J6="Approved","PP Sample",IF(H6="Approved","Fit Sample",IF(F6="Approved","Proto 2/SMS",IF(D6="Approved","Proto 1","Not Started"))))) -> Gold Seal | O6: =IFERROR(IF(MAX(E6,G6,I6,K6,M6)=0,"",TODAY()-MAX(E6,G6,I6,K6,M6)),"") -> 9 | P6: =IFERROR(IF((IF(D6<>"Approved","Proto 1",IF(F6<>"Approved","Proto 2/SMS",IF(H6<>"Approved","Fit Sample",IF(J6<>"Approved","PP Sample",IF(L6<>"Approved","Gold Seal",""))))))="","complete",IF(VLOOKUP((IF(D6<>"Approved","Proto 1",IF(F6<>"Approved","Proto 2/SMS",IF(H6<>"Approved","Fit Sample",IF(J6<>"Approved","PP Sample",IF(L6<>"Approved","Gold Seal","")))))),Calendar!$A$5:$E$9,2,FALSE())<TODAY(),"DUE/LATE","on track")),"on track") -> complete
A7: SS-103 | B7: Aubrey Trench | C7: Outerwear | D7: Approved | E7: 46130 | F7: Approved | G7: 46148 | H7: Approved | I7: 46164 | J7: Approved | K7: 46182 | L7: Approved | M7: 46212 | N7: =IF(L7="Approved","Gold Seal",IF(J7="Approved","PP Sample",IF(H7="Approved","Fit Sample",IF(F7="Approved","Proto 2/SMS",IF(D7="Approved","Proto 1","Not Started"))))) -> Gold Seal | O7: =IFERROR(IF(MAX(E7,G7,I7,K7,M7)=0,"",TODAY()-MAX(E7,G7,I7,K7,M7)),"") -> 6 | P7: =IFERROR(IF((IF(D7<>"Approved","Proto 1",IF(F7<>"Approved","Proto 2/SMS",IF(H7<>"Approved","Fit Sample",IF(J7<>"Approved","PP Sample",IF(L7<>"Approved","Gold Seal",""))))))="","complete",IF(VLOOKUP((IF(D7<>"Approved","Proto 1",IF(F7<>"Approved","Proto 2/SMS",IF(H7<>"Approved","Fit Sample",IF(J7<>"Approved","PP Sample",IF(L7<>"Approved","Gold Seal","")))))),Calendar!$A$5:$E$9,2,FALSE())<TODAY(),"DUE/LATE","on track")),"on track") -> complete
A8: SS-104 | B8: Verity Wrap Dress | C8: Dresses | D8: Approved | E8: 46136 | F8: Approved | G8: 46156 | H8: Approved | I8: 46174 | J8: Approved | K8: 46193 | L8: In Progress | M8: 46213 | N8: =IF(L8="Approved","Gold Seal",IF(J8="Approved","PP Sample",IF(H8="Approved","Fit Sample",IF(F8="Approved","Proto 2/SMS",IF(D8="Approved","Proto 1","Not Started"))))) -> PP Sample | O8: =IFERROR(IF(MAX(E8,G8,I8,K8,M8)=0,"",TODAY()-MAX(E8,G8,I8,K8,M8)),"") -> 5 | P8: =IFERROR(IF((IF(D8<>"Approved","Proto 1",IF(F8<>"Approved","Proto 2/SMS",IF(H8<>"Approved","Fit Sample",IF(J8<>"Approved","PP Sample",IF(L8<>"Approved","Gold Seal",""))))))="","complete",IF(VLOOKUP((IF(D8<>"Approved","Proto 1",IF(F8<>"Approved","Proto 2/SMS",IF(H8<>"Approved","Fit Sample",IF(J8<>"Approved","PP Sample",IF(L8<>"Approved","Gold Seal","")))))),Calendar!$A$5:$E$9,2,FALSE())<TODAY(),"DUE/LATE","on track")),"on track") -> on track
A9: SS-105 | B9: Odile Knit | C9: Knitwear | D9: Approved | E9: 46137 | F9: Approved | G9: 46157 | H9: Approved | I9: 46176 | J9: Approved | K9: 46195 | L9: Not Started | N9: =IF(L9="Approved","Gold Seal",IF(J9="Approved","PP Sample",IF(H9="Approved","Fit Sample",IF(F9="Approved","Proto 2/SMS",IF(D9="Approved","Proto 1","Not Started"))))) -> PP Sample | O9: =IFERROR(IF(MAX(E9,G9,I9,K9,M9)=0,"",TODAY()-MAX(E9,G9,I9,K9,M9)),"") -> 23 | P9: =IFERROR(IF((IF(D9<>"Approved","Proto 1",IF(F9<>"Approved","Proto 2/SMS",IF(H9<>"Approved","Fit Sample",IF(J9<>"Approved","PP Sample",IF(L9<>"Approved","Gold Seal",""))))))="","complete",IF(VLOOKUP((IF(D9<>"Approved","Proto 1",IF(F9<>"Approved","Proto 2/SMS",IF(H9<>"Approved","Fit Sample",IF(J9<>"Approved","PP Sample",IF(L9<>"Approved","Gold Seal","")))))),Calendar!$A$5:$E$9,2,FALSE())<TODAY(),"DUE/LATE","on track")),"on track") -> on track
A10: SS-106 | B10: Sévigné Blazer | C10: Tailoring | D10: Approved | E10: 46139 | F10: Approved | G10: 46160 | H10: Approved | I10: 46178 | J10: In Progress | K10: 46201 | L10: Not Started | N10: =IF(L10="Approved","Gold Seal",IF(J10="Approved","PP Sample",IF(H10="Approved","Fit Sample",IF(F10="Approved","Proto 2/SMS",IF(D10="Approved","Proto 1","Not Started"))))) -> Fit Sample | O10: =IFERROR(IF(MAX(E10,G10,I10,K10,M10)=0,"",TODAY()-MAX(E10,G10,I10,K10,M10)),"") -> 17 | P10: =IFERROR(IF((IF(D10<>"Approved","Proto 1",IF(F10<>"Approved","Proto 2/SMS",IF(H10<>"Approved","Fit Sample",IF(J10<>"Approved","PP Sample",IF(L10<>"Approved","Gold Seal",""))))))="","complete",IF(VLOOKUP((IF(D10<>"Approved","Proto 1",IF(F10<>"Approved","Proto 2/SMS",IF(H10<>"Approved","Fit Sample",IF(J10<>"Approved","PP Sample",IF(L10<>"Approved","Gold Seal","")))))),Calendar!$A$5:$E$9,2,FALSE())<TODAY(),"DUE/LATE","on track")),"on track") -> DUE/LATE
A11: SS-107 | B11: Lisette Midi Skirt | C11: Skirts | D11: Approved | E11: 46140 | F11: Approved | G11: 46162 | H11: Approved | I11: 46181 | J11: Not Started | L11: Not Started | N11: =IF(L11="Approved","Gold Seal",IF(J11="Approved","PP Sample",IF(H11="Approved","Fit Sample",IF(F11="Approved","Proto 2/SMS",IF(D11="Approved","Proto 1","Not Started"))))) -> Fit Sample | O11: =IFERROR(IF(MAX(E11,G11,I11,K11,M11)=0,"",TODAY()-MAX(E11,G11,I11,K11,M11)),"") -> 37 | P11: =IFERROR(IF((IF(D11<>"Approved","Proto 1",IF(F11<>"Approved","Proto 2/SMS",IF(H11<>"Approved","Fit Sample",IF(J11<>"Approved","PP Sample",IF(L11<>"Approved","Gold Seal",""))))))="","complete",IF(VLOOKUP((IF(D11<>"Approved","Proto 1",IF(F11<>"Approved","Proto 2/SMS",IF(H11<>"Approved","Fit Sample",IF(J11<>"Approved","PP Sample",IF(L11<>"Approved","Gold Seal","")))))),Calendar!$A$5:$E$9,2,FALSE())<TODAY(),"DUE/LATE","on track")),"on track") -> DUE/LATE
A12: SS-108 | B12: Margaux Trouser | C12: Trousers | D12: Approved | E12: 46141 | F12: Approved | G12: 46164 | H12: In Progress | I12: 46199 | J12: Not Started | L12: Not Started | N12: =IF(L12="Approved","Gold Seal",IF(J12="Approved","PP Sample",IF(H12="Approved","Fit Sample",IF(F12="Approved","Proto 2/SMS",IF(D12="Approved","Proto 1","Not Started"))))) -> Proto 2/SMS | O12: =IFERROR(IF(MAX(E12,G12,I12,K12,M12)=0,"",TODAY()-MAX(E12,G12,I12,K12,M12)),"") -> 19 | P12: =IFERROR(IF((IF(D12<>"Approved","Proto 1",IF(F12<>"Approved","Proto 2/SMS",IF(H12<>"Approved","Fit Sample",IF(J12<>"Approved","PP Sample",IF(L12<>"Approved","Gold Seal",""))))))="","complete",IF(VLOOKUP((IF(D12<>"Approved","Proto 1",IF(F12<>"Approved","Proto 2/SMS",IF(H12<>"Approved","Fit Sample",IF(J12<>"Approved","PP Sample",IF(L12<>"Approved","Gold Seal","")))))),Calendar!$A$5:$E$9,2,FALSE())<TODAY(),"DUE/LATE","on track")),"on track") -> DUE/LATE
A13: SS-109 | B13: Delphine Camisole | C13: Tops | D13: Approved | E13: 46144 | F13: Approved | G13: 46167 | H13: Approved | I13: 46183 | J13: Not Started | L13: Not Started | N13: =IF(L13="Approved","Gold Seal",IF(J13="Approved","PP Sample",IF(H13="Approved","Fit Sample",IF(F13="Approved","Proto 2/SMS",IF(D13="Approved","Proto 1","Not Started"))))) -> Fit Sample | O13: =IFERROR(IF(MAX(E13,G13,I13,K13,M13)=0,"",TODAY()-MAX(E13,G13,I13,K13,M13)),"") -> 35 | P13: =IFERROR(IF((IF(D13<>"Approved","Proto 1",IF(F13<>"Approved","Proto 2/SMS",IF(H13<>"Approved","Fit Sample",IF(J13<>"Approved","PP Sample",IF(L13<>"Approved","Gold Seal",""))))))="","complete",IF(VLOOKUP((IF(D13<>"Approved","Proto 1",IF(F13<>"Approved","Proto 2/SMS",IF(H13<>"Approved","Fit Sample",IF(J13<>"Approved","PP Sample",IF(L13<>"Approved","Gold Seal","")))))),Calendar!$A$5:$E$9,2,FALSE())<TODAY(),"DUE/LATE","on track")),"on track") -> DUE/LATE
A14: SS-110 | B14: Ines Shirt Dress | C14: Dresses | D14: Approved | E14: 46146 | F14: Approved | G14: 46170 | H14: Not Started | J14: Not Started | L14: Not Started | N14: =IF(L14="Approved","Gold Seal",IF(J14="Approved","PP Sample",IF(H14="Approved","Fit Sample",IF(F14="Approved","Proto 2/SMS",IF(D14="Approved","Proto 1","Not Started"))))) -> Proto 2/SMS | O14: =IFERROR(IF(MAX(E14,G14,I14,K14,M14)=0,"",TODAY()-MAX(E14,G14,I14,K14,M14)),"") -> 48 | P14: =IFERROR(IF((IF(D14<>"Approved","Proto 1",IF(F14<>"Approved","Proto 2/SMS",IF(H14<>"Approved","Fit Sample",IF(J14<>"Approved","PP Sample",IF(L14<>"Approved","Gold Seal",""))))))="","complete",IF(VLOOKUP((IF(D14<>"Approved","Proto 1",IF(F14<>"Approved","Proto 2/SMS",IF(H14<>"Approved","Fit Sample",IF(J14<>"Approved","PP Sample",IF(L14<>"Approved","Gold Seal","")))))),Calendar!$A$5:$E$9,2,FALSE())<TODAY(),"DUE/LATE","on track")),"on track") -> DUE/LATE
A15: SS-111 | B15: Bardot Cardigan | C15: Knitwear | D15: Approved | E15: 46148 | F15: In Progress | G15: 46185 | H15: Not Started | J15: Not Started | L15: Not Started | N15: =IF(L15="Approved","Gold Seal",IF(J15="Approved","PP Sample",IF(H15="Approved","Fit Sample",IF(F15="Approved","Proto 2/SMS",IF(D15="Approved","Proto 1","Not Started"))))) -> Proto 1 | O15: =IFERROR(IF(MAX(E15,G15,I15,K15,M15)=0,"",TODAY()-MAX(E15,G15,I15,K15,M15)),"") -> 33 | P15: =IFERROR(IF((IF(D15<>"Approved","Proto 1",IF(F15<>"Approved","Proto 2/SMS",IF(H15<>"Approved","Fit Sample",IF(J15<>"Approved","PP Sample",IF(L15<>"Approved","Gold Seal",""))))))="","complete",IF(VLOOKUP((IF(D15<>"Approved","Proto 1",IF(F15<>"Approved","Proto 2/SMS",IF(H15<>"Approved","Fit Sample",IF(J15<>"Approved","PP Sample",IF(L15<>"Approved","Gold Seal","")))))),Calendar!$A$5:$E$9,2,FALSE())<TODAY(),"DUE/LATE","on track")),"on track") -> DUE/LATE
A16: SS-112 | B16: Solene Tailored Vest | C16: Tailoring | D16: Approved | E16: 46150 | F16: In Progress | G16: 46183 | H16: Not Started | J16: Not Started | L16: Not Started | N16: =IF(L16="Approved","Gold Seal",IF(J16="Approved","PP Sample",IF(H16="Approved","Fit Sample",IF(F16="Approved","Proto 2/SMS",IF(D16="Approved","Proto 1","Not Started"))))) -> Proto 1 | O16: =IFERROR(IF(MAX(E16,G16,I16,K16,M16)=0,"",TODAY()-MAX(E16,G16,I16,K16,M16)),"") -> 35 | P16: =IFERROR(IF((IF(D16<>"Approved","Proto 1",IF(F16<>"Approved","Proto 2/SMS",IF(H16<>"Approved","Fit Sample",IF(J16<>"Approved","PP Sample",IF(L16<>"Approved","Gold Seal",""))))))="","complete",IF(VLOOKUP((IF(D16<>"Approved","Proto 1",IF(F16<>"Approved","Proto 2/SMS",IF(H16<>"Approved","Fit Sample",IF(J16<>"Approved","PP Sample",IF(L16<>"Approved","Gold Seal","")))))),Calendar!$A$5:$E$9,2,FALSE())<TODAY(),"DUE/LATE","on track")),"on track") -> DUE/LATE
A17: SS-113 | B17: Romy Pleated Skirt | C17: Skirts | D17: Approved | E17: 46151 | F17: In Progress | G17: 46187 | H17: Not Started | J17: Not Started | L17: Not Started | N17: =IF(L17="Approved","Gold Seal",IF(J17="Approved","PP Sample",IF(H17="Approved","Fit Sample",IF(F17="Approved","Proto 2/SMS",IF(D17="Approved","Proto 1","Not Started"))))) -> Proto 1 | O17: =IFERROR(IF(MAX(E17,G17,I17,K17,M17)=0,"",TODAY()-MAX(E17,G17,I17,K17,M17)),"") -> 31 | P17: =IFERROR(IF((IF(D17<>"Approved","Proto 1",IF(F17<>"Approved","Proto 2/SMS",IF(H17<>"Approved","Fit Sample",IF(J17<>"Approved","PP Sample",IF(L17<>"Approved","Gold Seal",""))))))="","complete",IF(VLOOKUP((IF(D17<>"Approved","Proto 1",IF(F17<>"Approved","Proto 2/SMS",IF(H17<>"Approved","Fit Sample",IF(J17<>"Approved","PP Sample",IF(L17<>"Approved","Gold Seal","")))))),Calendar!$A$5:$E$9,2,FALSE())<TODAY(),"DUE/LATE","on track")),"on track") -> DUE/LATE
A18: SS-114 | B18: Estelle Wide Trouser | C18: Trousers | D18: Approved | E18: 46153 | F18: In Progress | G18: 46189 | H18: Not Started | J18: Not Started | L18: Not Started | N18: =IF(L18="Approved","Gold Seal",IF(J18="Approved","PP Sample",IF(H18="Approved","Fit Sample",IF(F18="Approved","Proto 2/SMS",IF(D18="Approved","Proto 1","Not Started"))))) -> Proto 1 | O18: =IFERROR(IF(MAX(E18,G18,I18,K18,M18)=0,"",TODAY()-MAX(E18,G18,I18,K18,M18)),"") -> 29 | P18: =IFERROR(IF((IF(D18<>"Approved","Proto 1",IF(F18<>"Approved","Proto 2/SMS",IF(H18<>"Approved","Fit Sample",IF(J18<>"Approved","PP Sample",IF(L18<>"Approved","Gold Seal",""))))))="","complete",IF(VLOOKUP((IF(D18<>"Approved","Proto 1",IF(F18<>"Approved","Proto 2/SMS",IF(H18<>"Approved","Fit Sample",IF(J18<>"Approved","PP Sample",IF(L18<>"Approved","Gold Seal","")))))),Calendar!$A$5:$E$9,2,FALSE())<TODAY(),"DUE/LATE","on track")),"on track") -> DUE/LATE
A19: SS-115 | B19: Juno Denim Jacket | C19: Denim | D19: Approved | E19: 46154 | F19: Rejected | G19: 46191 | H19: Not Started | J19: Not Started | L19: Not Started | N19: =IF(L19="Approved","Gold Seal",IF(J19="Approved","PP Sample",IF(H19="Approved","Fit Sample",IF(F19="Approved","Proto 2/SMS",IF(D19="Approved","Proto 1","Not Started"))))) -> Proto 1 | O19: =IFERROR(IF(MAX(E19,G19,I19,K19,M19)=0,"",TODAY()-MAX(E19,G19,I19,K19,M19)),"") -> 27 | P19: =IFERROR(IF((IF(D19<>"Approved","Proto 1",IF(F19<>"Approved","Proto 2/SMS",IF(H19<>"Approved","Fit Sample",IF(J19<>"Approved","PP Sample",IF(L19<>"Approved","Gold Seal",""))))))="","complete",IF(VLOOKUP((IF(D19<>"Approved","Proto 1",IF(F19<>"Approved","Proto 2/SMS",IF(H19<>"Approved","Fit Sample",IF(J19<>"Approved","PP Sample",IF(L19<>"Approved","Gold Seal","")))))),Calendar!$A$5:$E$9,2,FALSE())<TODAY(),"DUE/LATE","on track")),"on track") -> DUE/LATE
A20: SS-116 | B20: Cleo Silk Top | C20: Tops | D20: Approved | E20: 46156 | F20: In Progress | G20: 46209 | H20: Not Started | J20: Not Started | L20: Not Started | N20: =IF(L20="Approved","Gold Seal",IF(J20="Approved","PP Sample",IF(H20="Approved","Fit Sample",IF(F20="Approved","Proto 2/SMS",IF(D20="Approved","Proto 1","Not Started"))))) -> Proto 1 | O20: =IFERROR(IF(MAX(E20,G20,I20,K20,M20)=0,"",TODAY()-MAX(E20,G20,I20,K20,M20)),"") -> 9 | P20: =IFERROR(IF((IF(D20<>"Approved","Proto 1",IF(F20<>"Approved","Proto 2/SMS",IF(H20<>"Approved","Fit Sample",IF(J20<>"Approved","PP Sample",IF(L20<>"Approved","Gold Seal",""))))))="","complete",IF(VLOOKUP((IF(D20<>"Approved","Proto 1",IF(F20<>"Approved","Proto 2/SMS",IF(H20<>"Approved","Fit Sample",IF(J20<>"Approved","PP Sample",IF(L20<>"Approved","Gold Seal","")))))),Calendar!$A$5:$E$9,2,FALSE())<TODAY(),"DUE/LATE","on track")),"on track") -> DUE/LATE
A21: SS-117 | B21: Farah Maxi Dress | C21: Dresses | D21: Approved | E21: 46158 | F21: Not Started | H21: Not Started | J21: Not Started | L21: Not Started | N21: =IF(L21="Approved","Gold Seal",IF(J21="Approved","PP Sample",IF(H21="Approved","Fit Sample",IF(F21="Approved","Proto 2/SMS",IF(D21="Approved","Proto 1","Not Started"))))) -> Proto 1 | O21: =IFERROR(IF(MAX(E21,G21,I21,K21,M21)=0,"",TODAY()-MAX(E21,G21,I21,K21,M21)),"") -> 60 | P21: =IFERROR(IF((IF(D21<>"Approved","Proto 1",IF(F21<>"Approved","Proto 2/SMS",IF(H21<>"Approved","Fit Sample",IF(J21<>"Approved","PP Sample",IF(L21<>"Approved","Gold Seal",""))))))="","complete",IF(VLOOKUP((IF(D21<>"Approved","Proto 1",IF(F21<>"Approved","Proto 2/SMS",IF(H21<>"Approved","Fit Sample",IF(J21<>"Approved","PP Sample",IF(L21<>"Approved","Gold Seal","")))))),Calendar!$A$5:$E$9,2,FALSE())<TODAY(),"DUE/LATE","on track")),"on track") -> DUE/LATE
A22: SS-118 | B22: Noor Knit Dress | C22: Knitwear | D22: In Progress | E22: 46211 | F22: Not Started | H22: Not Started | J22: Not Started | L22: Not Started | N22: =IF(L22="Approved","Gold Seal",IF(J22="Approved","PP Sample",IF(H22="Approved","Fit Sample",IF(F22="Approved","Proto 2/SMS",IF(D22="Approved","Proto 1","Not Started"))))) -> Not Started | O22: =IFERROR(IF(MAX(E22,G22,I22,K22,M22)=0,"",TODAY()-MAX(E22,G22,I22,K22,M22)),"") -> 7 | P22: =IFERROR(IF((IF(D22<>"Approved","Proto 1",IF(F22<>"Approved","Proto 2/SMS",IF(H22<>"Approved","Fit Sample",IF(J22<>"Approved","PP Sample",IF(L22<>"Approved","Gold Seal",""))))))="","complete",IF(VLOOKUP((IF(D22<>"Approved","Proto 1",IF(F22<>"Approved","Proto 2/SMS",IF(H22<>"Approved","Fit Sample",IF(J22<>"Approved","PP Sample",IF(L22<>"Approved","Gold Seal","")))))),Calendar!$A$5:$E$9,2,FALSE())<TODAY(),"DUE/LATE","on track")),"on track") -> DUE/LATE
A23: SS-119 | B23: Thea Culotte | C23: Trousers | D23: Approved | E23: 46147 | F23: Approved | G23: 46172 | H23: Rejected | I23: 46197 | J23: Not Started | L23: Not Started | N23: =IF(L23="Approved","Gold Seal",IF(J23="Approved","PP Sample",IF(H23="Approved","Fit Sample",IF(F23="Approved","Proto 2/SMS",IF(D23="Approved","Proto 1","Not Started"))))) -> Proto 2/SMS | O23: =IFERROR(IF(MAX(E23,G23,I23,K23,M23)=0,"",TODAY()-MAX(E23,G23,I23,K23,M23)),"") -> 21 | P23: =IFERROR(IF((IF(D23<>"Approved","Proto 1",IF(F23<>"Approved","Proto 2/SMS",IF(H23<>"Approved","Fit Sample",IF(J23<>"Approved","PP Sample",IF(L23<>"Approved","Gold Seal",""))))))="","complete",IF(VLOOKUP((IF(D23<>"Approved","Proto 1",IF(F23<>"Approved","Proto 2/SMS",IF(H23<>"Approved","Fit Sample",IF(J23<>"Approved","PP Sample",IF(L23<>"Approved","Gold Seal","")))))),Calendar!$A$5:$E$9,2,FALSE())<TODAY(),"DUE/LATE","on track")),"on track") -> DUE/LATE
A24: SS-120 | B24: Wren Overshirt | C24: Outerwear | D24: Approved | E24: 46160 | F24: Not Started | H24: Not Started | J24: Not Started | L24: Not Started | N24: =IF(L24="Approved","Gold Seal",IF(J24="Approved","PP Sample",IF(H24="Approved","Fit Sample",IF(F24="Approved","Proto 2/SMS",IF(D24="Approved","Proto 1","Not Started"))))) -> Proto 1 | O24: =IFERROR(IF(MAX(E24,G24,I24,K24,M24)=0,"",TODAY()-MAX(E24,G24,I24,K24,M24)),"") -> 58 | P24: =IFERROR(IF((IF(D24<>"Approved","Proto 1",IF(F24<>"Approved","Proto 2/SMS",IF(H24<>"Approved","Fit Sample",IF(J24<>"Approved","PP Sample",IF(L24<>"Approved","Gold Seal",""))))))="","complete",IF(VLOOKUP((IF(D24<>"Approved","Proto 1",IF(F24<>"Approved","Proto 2/SMS",IF(H24<>"Approved","Fit Sample",IF(J24<>"Approved","PP Sample",IF(L24<>"Approved","Gold Seal","")))))),Calendar!$A$5:$E$9,2,FALSE())<TODAY(),"DUE/LATE","on track")),"on track") -> DUE/LATE
A27: PIPELINE FUNNEL — samples approved through each gate | N27: ="As of "&TEXT(TODAY(),"dd-mmm-yyyy") -> As of 15-Jul-2026
A28: Gate | B28: Approved | C28: Funnel
A29: Proto 1 | B29: =COUNTIF($D$5:$D$24,"Approved") -> 19 | C29: =B29 -> 19
A30: Proto 2/SMS | B30: =COUNTIF($F$5:$F$24,"Approved") -> 11 | C30: =B30 -> 11
A31: Fit Sample | B31: =COUNTIF($H$5:$H$24,"Approved") -> 8 | C31: =B31 -> 8
A32: PP Sample | B32: =COUNTIF($J$5:$J$24,"Approved") -> 5 | C32: =B32 -> 5
A33: Gold Seal | B33: =COUNTIF($L$5:$L$24,"Approved") -> 3 | C33: =B33 -> 3
A34: Rejected | C34: =COUNTIF($D$5:$D$24,"Rejected")+COUNTIF($F$5:$F$24,"Rejected")+COUNTIF($H$5:$H$24,"Rejected")+COUNTIF($J$5:$J$24,"Rejected")+COUNTIF($L$5:$L$24,"Rejected") -> 2
A35: Overdue (ageing > 21d) | C35: =COUNTIF($O$5:$O$24,">21") -> 11
A36: Due / Late vs calendar | C36: =COUNTIF($P$5:$P$24,"DUE/LATE") -> 15

Sheet Calendar
A1: Marlowe Atelier · SS26 Critical-Path Calendar
A2: Gate target dates drive the Tracker's On Track? / DUE-LATE flags via cross-sheet lookup.
A4: Gate | B4: Target Date | C4: Lead Days | D4: Owner | E4: Notes
A5: Proto 1 | B5: 46143 | C5: 14 | D5: Design / Studio | E5: First proto off the block; silhouette sign-off.
A6: Proto 2/SMS | B6: 46167 | C6: 24 | D6: Product Dev | E6: Salesman sample / showroom-ready make.
A7: Fit Sample | B7: 46188 | C7: 21 | D7: Technical / Fit | E7: Graded fit session on the base size.
A8: PP Sample | B8: 46208 | C8: 20 | D8: Production | E8: Pre-production seal on bulk fabric & trims.
A9: Gold Seal | B9: 46223 | C9: 15 | D9: QA / Merch | E9: Final gold seal — release to bulk.

Sheet Notes
A1: Marlowe Atelier · SS26 Rejection & Risk Notes
A2: Rejected gates and at-risk (stuck) styles — reason, corrective action, and re-submit plan.
A4: Style # | B4: Style Name | C4: Gate | D4: Rejection / Risk Reason | E4: Action | F4: Re-submit
A5: SS-115 | B5: =IFERROR(VLOOKUP(A5,Tracker!$A$5:$B$24,2,FALSE()),"") -> Juno Denim Jacket | C5: Proto 2/SMS | D5: Colour lab-dip #3 failed — indigo off vs standard (ΔE 2.4). | E5: Re-dip against approved swatch; supplier to hold bulk. | F5: 46227
A6: SS-119 | B6: =IFERROR(VLOOKUP(A6,Tracker!$A$5:$B$24,2,FALSE()),"") -> Thea Culotte | C6: Fit Sample | D6: Armhole binding puckering; sleeve pitch rotated on base size. | E6: Re-cut binding, re-walk sleeve; new fit sample. | F6: 46225
A7: SS-111 | B7: =IFERROR(VLOOKUP(A7,Tracker!$A$5:$B$24,2,FALSE()),"") -> Bardot Cardigan | C7: Proto 2/SMS | D7: SMS stalled 30d+ — mill yarn delay on the rib. | E7: Chase mill ETA; consider substitute yarn if >1 wk. | F7: 46224
A8: SS-112 | B8: =IFERROR(VLOOKUP(A8,Tracker!$A$5:$B$24,2,FALSE()),"") -> Solene Tailored Vest | C8: Proto 2/SMS | D8: Hand-feel off vs standard on the melton; pressing marks. | E8: Re-make with corrected press; QA hand-feel check. | F8: 46223
A9: SS-113 | B9: =IFERROR(VLOOKUP(A9,Tracker!$A$5:$B$24,2,FALSE()),"") -> Romy Pleated Skirt | C9: Proto 2/SMS | D9: Pleat depth inconsistent across the run. | E9: Re-set pleater; confirm depth spec on tech pack. | F9: 46226
A10: SS-114 | B10: =IFERROR(VLOOKUP(A10,Tracker!$A$5:$B$24,2,FALSE()),"") -> Estelle Wide Trouser | C10: Proto 2/SMS | D10: Waistband roll on the wide-leg; interfacing too soft. | E10: Swap to firmer fusible; re-make SMS. | F10: 46228
